BEGIN:VCALENDAR
VERSION:2.0
PRODID:-//Maison Du Quartier de la Jonction - ECPv6.15.20//NONSGML v1.0//EN
CALSCALE:GREGORIAN
METHOD:PUBLISH
X-ORIGINAL-URL:https://mqj.ch
X-WR-CALDESC:Évènements pour Maison Du Quartier de la Jonction
REFRESH-INTERVAL;VALUE=DURATION:PT1H
X-Robots-Tag:noindex
X-PUBLISHED-TTL:PT1H
BEGIN:VTIMEZONE
TZID:Europe/Paris
BEGIN:DAYLIGHT
TZOFFSETFROM:+0100
TZOFFSETTO:+0200
TZNAME:CEST
DTSTART:20240331T010000
END:DAYLIGHT
BEGIN:STANDARD
TZOFFSETFROM:+0200
TZOFFSETTO:+0100
TZNAME:CET
DTSTART:20241027T010000
END:STANDARD
BEGIN:DAYLIGHT
TZOFFSETFROM:+0100
TZOFFSETTO:+0200
TZNAME:CEST
DTSTART:20250330T010000
END:DAYLIGHT
BEGIN:STANDARD
TZOFFSETFROM:+0200
TZOFFSETTO:+0100
TZNAME:CET
DTSTART:20251026T010000
END:STANDARD
BEGIN:DAYLIGHT
TZOFFSETFROM:+0100
TZOFFSETTO:+0200
TZNAME:CEST
DTSTART:20260329T010000
END:DAYLIGHT
BEGIN:STANDARD
TZOFFSETFROM:+0200
TZOFFSETTO:+0100
TZNAME:CET
DTSTART:20261025T010000
END:STANDARD
END:VTIMEZONE
BEGIN:VEVENT
DTSTART;TZID=Europe/Paris:20250509T190000
DTEND;TZID=Europe/Paris:20250509T203000
DTSTAMP:20260425T170024
CREATED:20241115T144753Z
LAST-MODIFIED:20250506T172930Z
UID:10000069-1746817200-1746822600@mqj.ch
SUMMARY:BRÈVES DE COMPTOIR
DESCRIPTION:ATELIER EN-JEU\nBRÈVES DE COMPTOIR\nde Jean-Marie Gourio \nMise en scène Patrick Brunet \nDu 09 au 17 mai 2025 à 19h30 (Relâche dimanche\, lundi & mardi)\nRéservations 079 481 87 20 \nAvec:\nClaire Brunet\, Mireille Lador\, Muriel Magnin\, Gaby Rossi\, Isabelle Sommer.\nÉric Ansart\, Patrick Brunet\, Alex Gerenton & Samir Kasme. \nUn bistrot\, des clients et clientes\, une patronne\, un serveur\, un pianiste\, des chansons … et des brèves de comptoir.\nMais c’est quoi des brèves de comptoir …?\nDes phrases entendues et collectées par Jean-Marie Gourio.\nDe cette parole populaire qui coule inlassablement dans les lieux publics\, il a cueilli l’essentiel des préoccupations de nos contemporains.\nDes phrases qui n’ont rien à voir les unes avec les autres.\nDes phrases qui disent tout … et son contraire.\nDes lapalissades délapalisées !\nDes phrases absurdes\, mais logiques\, presque philosophiques !\nElles oscillent entre le trait de génie et le sommet de la crétinerie.\nIncohérentes\, cocasses\, désopilantes\, vulgaires\, poétiques\, prosaïques ou oniriques !\nDes phrases dont le sens n’est pas apparent instantanément !\nÀ consommer sans modération ! \n« La réalité est une illusion due à un manque d’alcool ! »
URL:https://mqj.ch/event/melancolie-ouvriere/2025-05-09/
LOCATION:Genève
CATEGORIES:Étincelle
ATTACH;FMTTYPE=image/jpeg:https://mqj.ch/wp-content/uploads/2024/11/En-Jeu.jpg
END:VEVENT
BEGIN:VEVENT
DTSTART;TZID=Europe/Paris:20250510T190000
DTEND;TZID=Europe/Paris:20250510T203000
DTSTAMP:20260425T170024
CREATED:20241115T144753Z
LAST-MODIFIED:20250506T172930Z
UID:10000070-1746903600-1746909000@mqj.ch
SUMMARY:BRÈVES DE COMPTOIR
DESCRIPTION:ATELIER EN-JEU\nBRÈVES DE COMPTOIR\nde Jean-Marie Gourio \nMise en scène Patrick Brunet \nDu 09 au 17 mai 2025 à 19h30 (Relâche dimanche\, lundi & mardi)\nRéservations 079 481 87 20 \nAvec:\nClaire Brunet\, Mireille Lador\, Muriel Magnin\, Gaby Rossi\, Isabelle Sommer.\nÉric Ansart\, Patrick Brunet\, Alex Gerenton & Samir Kasme. \nUn bistrot\, des clients et clientes\, une patronne\, un serveur\, un pianiste\, des chansons … et des brèves de comptoir.\nMais c’est quoi des brèves de comptoir …?\nDes phrases entendues et collectées par Jean-Marie Gourio.\nDe cette parole populaire qui coule inlassablement dans les lieux publics\, il a cueilli l’essentiel des préoccupations de nos contemporains.\nDes phrases qui n’ont rien à voir les unes avec les autres.\nDes phrases qui disent tout … et son contraire.\nDes lapalissades délapalisées !\nDes phrases absurdes\, mais logiques\, presque philosophiques !\nElles oscillent entre le trait de génie et le sommet de la crétinerie.\nIncohérentes\, cocasses\, désopilantes\, vulgaires\, poétiques\, prosaïques ou oniriques !\nDes phrases dont le sens n’est pas apparent instantanément !\nÀ consommer sans modération ! \n« La réalité est une illusion due à un manque d’alcool ! »
URL:https://mqj.ch/event/melancolie-ouvriere/2025-05-10/
LOCATION:Genève
CATEGORIES:Étincelle
ATTACH;FMTTYPE=image/jpeg:https://mqj.ch/wp-content/uploads/2024/11/En-Jeu.jpg
END:VEVENT
BEGIN:VEVENT
DTSTART;TZID=Europe/Paris:20250514T190000
DTEND;TZID=Europe/Paris:20250514T203000
DTSTAMP:20260425T170024
CREATED:20241115T144753Z
LAST-MODIFIED:20250506T172930Z
UID:10000071-1747249200-1747254600@mqj.ch
SUMMARY:BRÈVES DE COMPTOIR
DESCRIPTION:ATELIER EN-JEU\nBRÈVES DE COMPTOIR\nde Jean-Marie Gourio \nMise en scène Patrick Brunet \nDu 09 au 17 mai 2025 à 19h30 (Relâche dimanche\, lundi & mardi)\nRéservations 079 481 87 20 \nAvec:\nClaire Brunet\, Mireille Lador\, Muriel Magnin\, Gaby Rossi\, Isabelle Sommer.\nÉric Ansart\, Patrick Brunet\, Alex Gerenton & Samir Kasme. \nUn bistrot\, des clients et clientes\, une patronne\, un serveur\, un pianiste\, des chansons … et des brèves de comptoir.\nMais c’est quoi des brèves de comptoir …?\nDes phrases entendues et collectées par Jean-Marie Gourio.\nDe cette parole populaire qui coule inlassablement dans les lieux publics\, il a cueilli l’essentiel des préoccupations de nos contemporains.\nDes phrases qui n’ont rien à voir les unes avec les autres.\nDes phrases qui disent tout … et son contraire.\nDes lapalissades délapalisées !\nDes phrases absurdes\, mais logiques\, presque philosophiques !\nElles oscillent entre le trait de génie et le sommet de la crétinerie.\nIncohérentes\, cocasses\, désopilantes\, vulgaires\, poétiques\, prosaïques ou oniriques !\nDes phrases dont le sens n’est pas apparent instantanément !\nÀ consommer sans modération ! \n« La réalité est une illusion due à un manque d’alcool ! »
URL:https://mqj.ch/event/melancolie-ouvriere/2025-05-14/
LOCATION:Genève
CATEGORIES:Étincelle
ATTACH;FMTTYPE=image/jpeg:https://mqj.ch/wp-content/uploads/2024/11/En-Jeu.jpg
END:VEVENT
BEGIN:VEVENT
DTSTART;TZID=Europe/Paris:20250515T190000
DTEND;TZID=Europe/Paris:20250515T203000
DTSTAMP:20260425T170024
CREATED:20241115T144753Z
LAST-MODIFIED:20250506T172930Z
UID:10000072-1747335600-1747341000@mqj.ch
SUMMARY:BRÈVES DE COMPTOIR
DESCRIPTION:ATELIER EN-JEU\nBRÈVES DE COMPTOIR\nde Jean-Marie Gourio \nMise en scène Patrick Brunet \nDu 09 au 17 mai 2025 à 19h30 (Relâche dimanche\, lundi & mardi)\nRéservations 079 481 87 20 \nAvec:\nClaire Brunet\, Mireille Lador\, Muriel Magnin\, Gaby Rossi\, Isabelle Sommer.\nÉric Ansart\, Patrick Brunet\, Alex Gerenton & Samir Kasme. \nUn bistrot\, des clients et clientes\, une patronne\, un serveur\, un pianiste\, des chansons … et des brèves de comptoir.\nMais c’est quoi des brèves de comptoir …?\nDes phrases entendues et collectées par Jean-Marie Gourio.\nDe cette parole populaire qui coule inlassablement dans les lieux publics\, il a cueilli l’essentiel des préoccupations de nos contemporains.\nDes phrases qui n’ont rien à voir les unes avec les autres.\nDes phrases qui disent tout … et son contraire.\nDes lapalissades délapalisées !\nDes phrases absurdes\, mais logiques\, presque philosophiques !\nElles oscillent entre le trait de génie et le sommet de la crétinerie.\nIncohérentes\, cocasses\, désopilantes\, vulgaires\, poétiques\, prosaïques ou oniriques !\nDes phrases dont le sens n’est pas apparent instantanément !\nÀ consommer sans modération ! \n« La réalité est une illusion due à un manque d’alcool ! »
URL:https://mqj.ch/event/melancolie-ouvriere/2025-05-15/
LOCATION:Genève
CATEGORIES:Étincelle
ATTACH;FMTTYPE=image/jpeg:https://mqj.ch/wp-content/uploads/2024/11/En-Jeu.jpg
END:VEVENT
BEGIN:VEVENT
DTSTART;TZID=Europe/Paris:20250516T190000
DTEND;TZID=Europe/Paris:20250516T203000
DTSTAMP:20260425T170024
CREATED:20241115T144753Z
LAST-MODIFIED:20250506T172930Z
UID:10000073-1747422000-1747427400@mqj.ch
SUMMARY:BRÈVES DE COMPTOIR
DESCRIPTION:ATELIER EN-JEU\nBRÈVES DE COMPTOIR\nde Jean-Marie Gourio \nMise en scène Patrick Brunet \nDu 09 au 17 mai 2025 à 19h30 (Relâche dimanche\, lundi & mardi)\nRéservations 079 481 87 20 \nAvec:\nClaire Brunet\, Mireille Lador\, Muriel Magnin\, Gaby Rossi\, Isabelle Sommer.\nÉric Ansart\, Patrick Brunet\, Alex Gerenton & Samir Kasme. \nUn bistrot\, des clients et clientes\, une patronne\, un serveur\, un pianiste\, des chansons … et des brèves de comptoir.\nMais c’est quoi des brèves de comptoir …?\nDes phrases entendues et collectées par Jean-Marie Gourio.\nDe cette parole populaire qui coule inlassablement dans les lieux publics\, il a cueilli l’essentiel des préoccupations de nos contemporains.\nDes phrases qui n’ont rien à voir les unes avec les autres.\nDes phrases qui disent tout … et son contraire.\nDes lapalissades délapalisées !\nDes phrases absurdes\, mais logiques\, presque philosophiques !\nElles oscillent entre le trait de génie et le sommet de la crétinerie.\nIncohérentes\, cocasses\, désopilantes\, vulgaires\, poétiques\, prosaïques ou oniriques !\nDes phrases dont le sens n’est pas apparent instantanément !\nÀ consommer sans modération ! \n« La réalité est une illusion due à un manque d’alcool ! »
URL:https://mqj.ch/event/melancolie-ouvriere/2025-05-16/
LOCATION:Genève
CATEGORIES:Étincelle
ATTACH;FMTTYPE=image/jpeg:https://mqj.ch/wp-content/uploads/2024/11/En-Jeu.jpg
END:VEVENT
BEGIN:VEVENT
DTSTART;TZID=Europe/Paris:20250517T190000
DTEND;TZID=Europe/Paris:20250517T203000
DTSTAMP:20260425T170024
CREATED:20241115T144753Z
LAST-MODIFIED:20250506T172930Z
UID:10000074-1747508400-1747513800@mqj.ch
SUMMARY:BRÈVES DE COMPTOIR
DESCRIPTION:ATELIER EN-JEU\nBRÈVES DE COMPTOIR\nde Jean-Marie Gourio \nMise en scène Patrick Brunet \nDu 09 au 17 mai 2025 à 19h30 (Relâche dimanche\, lundi & mardi)\nRéservations 079 481 87 20 \nAvec:\nClaire Brunet\, Mireille Lador\, Muriel Magnin\, Gaby Rossi\, Isabelle Sommer.\nÉric Ansart\, Patrick Brunet\, Alex Gerenton & Samir Kasme. \nUn bistrot\, des clients et clientes\, une patronne\, un serveur\, un pianiste\, des chansons … et des brèves de comptoir.\nMais c’est quoi des brèves de comptoir …?\nDes phrases entendues et collectées par Jean-Marie Gourio.\nDe cette parole populaire qui coule inlassablement dans les lieux publics\, il a cueilli l’essentiel des préoccupations de nos contemporains.\nDes phrases qui n’ont rien à voir les unes avec les autres.\nDes phrases qui disent tout … et son contraire.\nDes lapalissades délapalisées !\nDes phrases absurdes\, mais logiques\, presque philosophiques !\nElles oscillent entre le trait de génie et le sommet de la crétinerie.\nIncohérentes\, cocasses\, désopilantes\, vulgaires\, poétiques\, prosaïques ou oniriques !\nDes phrases dont le sens n’est pas apparent instantanément !\nÀ consommer sans modération ! \n« La réalité est une illusion due à un manque d’alcool ! »
URL:https://mqj.ch/event/melancolie-ouvriere/2025-05-17/
LOCATION:Genève
CATEGORIES:Étincelle
ATTACH;FMTTYPE=image/jpeg:https://mqj.ch/wp-content/uploads/2024/11/En-Jeu.jpg
END:VEVENT
BEGIN:VEVENT
DTSTART;TZID=Europe/Paris:20250524T193000
DTEND;TZID=Europe/Paris:20250524T210000
DTSTAMP:20260425T170024
CREATED:20250206T174552Z
LAST-MODIFIED:20250404T093303Z
UID:10000085-1748115000-1748120400@mqj.ch
SUMMARY:YOANNA en concert
DESCRIPTION:YOANNA\nChansons p(o)ur\n(Vernissage de son nouvel album – AU BORD) \nRéservations en ligne:\nhttps://www.billetweb.fr/yoanna1\nPlein tarif: 18€ (18.- CHF)\nTarif réduit: 15€ (15.- CHF) \n  \nOubliez tout ce que vous savez sur Yoanna ! \nTout ce que vous savez d’elle est là\, la douceur en plus. Le sourire et les rires cachent toujours les peurs\, les combats ne sont pas prêts d’être fini\, mais la tendresse domine. La sincérité à fleur de peau est toujours sa signature\, mais l’épure des mots la rend puissante. La colère est belle quand elle est optimiste. Ce nouvel album est tout en accordéon/percussions/voix ce qui lui confère un groove inédit\, nimbé de mots qui se penchent sur le corps\, le désir la mort et la beauté. Armée de son « accordéon armure »\, avec pudeur et impudeur comme à chaque fois Yoanna\, sa féminité vissée au cœur caresse où ça fait mal\, pour rendre la vie plus belle. Guidés par sa voix fragile et crâneuse à la fois\, elle offre avec générosité aux malheureux et aux impatients () des chansons comme on n’en fait plus. \nSur la pochette de « Moi-bordel ! »\, son premier album Yoanna pose clope au bec sous un panneau « Interdiction de fumer » vêtue d’un T-shirt arborant le drapeau Suisse natal. Ce n’est pas un détail ni une provocation\, c’est tout elle déjà. \nAvant son seul prénom\, il y a eu d’autre projets musicaux qui venait compléter sa gourmandise d’actions. La danse\, le trapèze\, disciplines qui nécessitent un corps « utile » et non un corps sexué\, furent ses premiers amours\, même si l’accordéon était déjà entré dans sa vie à l’enfance. \nUn accordéon brille\, intrigue\, un accordéon est un instrument de fête\, Yoanna cite aussi bien Yann Tiersen Yvette Horner\, Fixi que Daniel Mille pour le vanter. « Je l’aime de plus en plus » dit-elle quand elle en parle pour « Au bord » son 7ème album (inclus 2 jeune public) où l’accordéon occupe l’espace sonore seulement accompagné des percussions de Mathieu Goust son alter-ego. Yoanna en explore toutes les facettes\, tendances mélancolie assumée\, dans la lignée chanson de chez nous\, loin de tout cliché musique du monde. \nEnfant\, la culture était bien présente à la maison\, la musique en haut de la pile. Côté France pour le père avec la Trinité Fontaine\, Areski\, Higelin et côté italien pour la mère avec Giovanna Marini dont elle garde sans doute la flamboyance. Elle\, elle grandira avec Marley\, Eminem\, Rita Mitsouko et l’Higelin de Mogador\, celui à l’accordéon parfois. \nIl faudra traverser les Alpes pour asseoir la musique\, Grenoble où elle vit toujours sera son port loin de la mer\, là où les amitiés naissent et demeurent. Ce sera Fafa de Sinsemillia qui produira le premier album estampillé 2008\, 17 ans déjà. « Je n’ai peut-être pas la notoriété mais j’ai la durée… ». \nDans ce premier album défendu avec fougue\, le plus souvent dans la rue\, il y une femme\, une chanteuse\, en avance sur son temps. Bien avant #MeToo elle chante « Toutes des salopes » qui resonne rageusement toujours maintenant. Qui avant elle a osé prendre la place ? Colette Magny ? Anne Sylvestre (qu’elle chantera dans un projet annexe à venir)? \nDans ce premier album il y l’inceste. L’inceste vécu. Celui qui ne quittera jamais sa vie revient dans ses chansons\, et « est le point de départ de tout ». Point de départ de Yoanna\, la femme\, la mère\, la chanteuse. Le dire ? Le chanter ? \n« Je suis prête »\, pour elle et tous les autres. \nChanter c’est donc lancer des balles. \nLe corps\, son corps\, fil rouge de l’album (Les titres « Mon corps »\, « Couci couça »)\, un corps qui aime l’amour et fuit la haine\, se dévoile sur la pochette où nue entre deux eaux elle s’enfonce ou remonte à la surface. L’eau est l’autre trame d’« Au bord »\, l’eau qui porte\, l’eau qui guérit les maux (mots ?)\, l’eau qui est samplée (« Je nage ») pour vivre loin de l’au-delà. L’eau qui recouvre la terre qui\, elle nourrissait son précèdent album « 2ème sexe ». \nLa colère fondatrice\, instinctive de Yoanna est apprivoisée et apprends à cohabiter avec la douceur nouvelle venue chez cette chanteuse politique « Parce que bien sûr qu’une chanteuse est politique ! ». Et la douceur lui va bien pour parler des rapports entre les gens\, des travers et des TOC. Cette douceur\, invitée brillante de ce nouvel album\, forte et positive rend plus efficace le discours qui lui reste brut et primordial. Qu’elle chante le cancer invaincu d’une amie de radio (« Boîte à crabes »)\, la péremption programmée de l’être humain (« Obsolescence ») ou ceux qui s’éclipsent « Dis-moi mon amie/Tu la veux où ma vie ? » chante-t-elle sur le titre « Mon ami »\, le regard reste noir mais l’espoir veille. Yoanna avec « Au bord » balance ses mots plus frontalement et ouvre le champ des possibles. « Au bord »… de la folie ? des larmes ? Au bord.erline ? Au bord.el (la boucle est bouclée) \nTendresse\, colère à quoi bon choisir quand on est Yoanna ? \nCelle qui chante dans « Au bord » : chagrin\, bouche\, sueur\, aiguille. C’est pour cela qu’il faut l’écouter\, ressentir son vocabulaire et vibrer sur son groove loin de tout ce que l’on croyait savoir d’elle auparavant ! \nOlivier Bas \n(Visuel: @Mathieu Goust)
URL:https://mqj.ch/event/yoanna-en-concert/
LOCATION:L’étincelle\, 18bis Avenue Sainte-Clotilde\, Genève\, Genève\, 1205\, Switzerland
CATEGORIES:Étincelle
ATTACH;FMTTYPE=image/jpeg:https://mqj.ch/wp-content/uploads/2025/02/YOANNA-@Mathieu-Goust-scaled.jpg
ORGANIZER;CN="Association de la Maison du Quartier de la Jonction":MAILTO:mqj@mqj.ch
END:VEVENT
END:VCALENDAR