BEGIN:VCALENDAR
VERSION:2.0
PRODID:-//Maison Du Quartier de la Jonction - ECPv6.15.20//NONSGML v1.0//EN
CALSCALE:GREGORIAN
METHOD:PUBLISH
X-ORIGINAL-URL:https://mqj.ch
X-WR-CALDESC:Évènements pour Maison Du Quartier de la Jonction
REFRESH-INTERVAL;VALUE=DURATION:PT1H
X-Robots-Tag:noindex
X-PUBLISHED-TTL:PT1H
BEGIN:VTIMEZONE
TZID:Europe/Paris
BEGIN:DAYLIGHT
TZOFFSETFROM:+0100
TZOFFSETTO:+0200
TZNAME:CEST
DTSTART:20240331T010000
END:DAYLIGHT
BEGIN:STANDARD
TZOFFSETFROM:+0200
TZOFFSETTO:+0100
TZNAME:CET
DTSTART:20241027T010000
END:STANDARD
BEGIN:DAYLIGHT
TZOFFSETFROM:+0100
TZOFFSETTO:+0200
TZNAME:CEST
DTSTART:20250330T010000
END:DAYLIGHT
BEGIN:STANDARD
TZOFFSETFROM:+0200
TZOFFSETTO:+0100
TZNAME:CET
DTSTART:20251026T010000
END:STANDARD
BEGIN:DAYLIGHT
TZOFFSETFROM:+0100
TZOFFSETTO:+0200
TZNAME:CEST
DTSTART:20260329T010000
END:DAYLIGHT
BEGIN:STANDARD
TZOFFSETFROM:+0200
TZOFFSETTO:+0100
TZNAME:CET
DTSTART:20261025T010000
END:STANDARD
END:VTIMEZONE
BEGIN:VEVENT
DTSTART;TZID=Europe/Paris:20250322T140000
DTEND;TZID=Europe/Paris:20250322T150000
DTSTAMP:20260422T104938
CREATED:20241115T143553Z
LAST-MODIFIED:20250206T150512Z
UID:10000065-1742652000-1742655600@mqj.ch
SUMMARY:Rendez-nous l'aventure sinon on va venir la chercher !
DESCRIPTION:Conservatoire Populaire – Musique\, danse et théâtre \n« L’Aventure » serait retenue prisonnière quelque part dans le siège de la multinationale  » Migoopline\, qui pour vous\, s’occupe de tout! »; Galimace et Poilonnée deux ados fatigués de leur vie réglée\, cloisonnée\, aseptisée et réseau sociée\, décident de se faire embaucher dans l’entreprise afin de libérer « l’Aventure ». Poilonnée sera affectée à la photocopieuse et Galimace à l’intendance\, jusqu’au jour où Galimace se retrouve nez à nez avec une petite porte cachée dans le placard à balais… il décide d’y entrer… \nComédiens\, musiciens et danseurs sur scène dans un spectacle drôle et énergique écrit par Thomas Freitag et joué par les élèves du Conservatoire populaire.
URL:https://mqj.ch/event/rendez-nous-laventure-sinon-on-va-venir-la-chercher/2025-03-22/1/
LOCATION:Genève
CATEGORIES:Étincelle
ATTACH;FMTTYPE=image/jpeg:https://mqj.ch/wp-content/uploads/2024/11/Rendeznousaventure.jpg
ORGANIZER;CN="Association de la Maison du Quartier de la Jonction":MAILTO:mqj@mqj.ch
END:VEVENT
BEGIN:VEVENT
DTSTART;TZID=Europe/Paris:20250322T170000
DTEND;TZID=Europe/Paris:20250322T180000
DTSTAMP:20260422T104938
CREATED:20241115T143553Z
LAST-MODIFIED:20250206T150512Z
UID:10000066-1742662800-1742666400@mqj.ch
SUMMARY:Rendez-nous l'aventure sinon on va venir la chercher !
DESCRIPTION:Conservatoire Populaire – Musique\, danse et théâtre \n« L’Aventure » serait retenue prisonnière quelque part dans le siège de la multinationale  » Migoopline\, qui pour vous\, s’occupe de tout! »; Galimace et Poilonnée deux ados fatigués de leur vie réglée\, cloisonnée\, aseptisée et réseau sociée\, décident de se faire embaucher dans l’entreprise afin de libérer « l’Aventure ». Poilonnée sera affectée à la photocopieuse et Galimace à l’intendance\, jusqu’au jour où Galimace se retrouve nez à nez avec une petite porte cachée dans le placard à balais… il décide d’y entrer… \nComédiens\, musiciens et danseurs sur scène dans un spectacle drôle et énergique écrit par Thomas Freitag et joué par les élèves du Conservatoire populaire.
URL:https://mqj.ch/event/rendez-nous-laventure-sinon-on-va-venir-la-chercher/2025-03-22/2/
LOCATION:Genève
CATEGORIES:Étincelle
ATTACH;FMTTYPE=image/jpeg:https://mqj.ch/wp-content/uploads/2024/11/Rendeznousaventure.jpg
ORGANIZER;CN="Association de la Maison du Quartier de la Jonction":MAILTO:mqj@mqj.ch
END:VEVENT
END:VCALENDAR