BEGIN:VCALENDAR
VERSION:2.0
PRODID:-//Maison Du Quartier de la Jonction - ECPv6.15.20//NONSGML v1.0//EN
CALSCALE:GREGORIAN
METHOD:PUBLISH
X-WR-CALNAME:Maison Du Quartier de la Jonction
X-ORIGINAL-URL:https://mqj.ch
X-WR-CALDESC:Évènements pour Maison Du Quartier de la Jonction
REFRESH-INTERVAL;VALUE=DURATION:PT1H
X-Robots-Tag:noindex
X-PUBLISHED-TTL:PT1H
BEGIN:VTIMEZONE
TZID:Europe/Paris
BEGIN:DAYLIGHT
TZOFFSETFROM:+0100
TZOFFSETTO:+0200
TZNAME:CEST
DTSTART:20240331T010000
END:DAYLIGHT
BEGIN:STANDARD
TZOFFSETFROM:+0200
TZOFFSETTO:+0100
TZNAME:CET
DTSTART:20241027T010000
END:STANDARD
BEGIN:DAYLIGHT
TZOFFSETFROM:+0100
TZOFFSETTO:+0200
TZNAME:CEST
DTSTART:20250330T010000
END:DAYLIGHT
BEGIN:STANDARD
TZOFFSETFROM:+0200
TZOFFSETTO:+0100
TZNAME:CET
DTSTART:20251026T010000
END:STANDARD
BEGIN:DAYLIGHT
TZOFFSETFROM:+0100
TZOFFSETTO:+0200
TZNAME:CEST
DTSTART:20260329T010000
END:DAYLIGHT
BEGIN:STANDARD
TZOFFSETFROM:+0200
TZOFFSETTO:+0100
TZNAME:CET
DTSTART:20261025T010000
END:STANDARD
END:VTIMEZONE
BEGIN:VEVENT
DTSTART;TZID=Europe/Paris:20251127T200000
DTEND;TZID=Europe/Paris:20251127T210000
DTSTAMP:20260422T215924
CREATED:20251103T110500Z
LAST-MODIFIED:20251103T110741Z
UID:10000509-1764273600-1764277200@mqj.ch
SUMMARY:Trajectoires
DESCRIPTION:Une image dissimulée dans un cadeau a éveillé en moi des émotions inattendues\, révélant la permanence d’un fait à travers le temps. Comme une boucle infinie\, une histoire commune se nourrit\, se transforme et s’entrelace à d’autres récits pour en engendrer un nouveau.\nCe spectacle explore les chemins des migrations universelles où souffrances et espoirs se répondent\, au-delà des époques et des frontières. Les récits évoqués ne se limitent pas à un seul temps : ils puisent dans la mémoire de la Première Guerre mondiale\, résonnent avec l’histoire de la Palestine et bien d’autres.\nSans chercher à moraliser\, je souhaite montrer que ces trajectoires\, bien que souvent marquées par la douleur\, portent aussi une force inébranlable : celle de l’espoir. Elles affirment que la vie est un cadeau si précieux que l’on est parfois prêt à tout quitter pour la vivre pleinement. \n« Trajectoires » est née de la découverte d’une photographie bouleversante. Pourtant\, à travers ce spectacle\, c’est un souffle d’espoir que je veux insuffler.\nFace aux bouleversements actuels\, comment réagirons-nous aux migrations à venir\, celles engendrées par les catastrophes environnementales ? La planète est en souffrance\, et les générations futures héritent d’une situation complexe. Quel message essentiel avons-nous à transmettre ?\nÀ travers ce spectacle je rends hommage à ce qui nous anime profondément : notre élan de vie. / Malena Sardi \nConception\, mise en scène Malena Sardi Chorégraphie: Marthe Krummenacher et Pauline Huguet\,\nDanse en alternance: Marthe Krummenacher/ Pauline Huguet\nCréation sonore: Malena Sardi\nCréation visuelle: Sophie Le Meillour et Alice Nimier\nRegard extérieur et dramaturgie: Marie Fourquet\nCréation lumière: Sandra Romanelli\nCommunication: Marie-Sophie Péclard
URL:https://mqj.ch/event/2414/2025-11-27/
LOCATION:L’étincelle\, 18bis Avenue Sainte-Clotilde\, Genève\, Genève\, 1205\, Switzerland
CATEGORIES:Étincelle
ATTACH;FMTTYPE=image/jpeg:https://mqj.ch/wp-content/uploads/2025/11/AFFICHE-TRAJECTOIRES-002.jpg
ORGANIZER;CN="Association de la Maison du Quartier de la Jonction":MAILTO:mqj@mqj.ch
END:VEVENT
END:VCALENDAR