BEGIN:VCALENDAR
VERSION:2.0
PRODID:-//Maison Du Quartier de la Jonction - ECPv6.15.20//NONSGML v1.0//EN
CALSCALE:GREGORIAN
METHOD:PUBLISH
X-ORIGINAL-URL:https://mqj.ch
X-WR-CALDESC:Évènements pour Maison Du Quartier de la Jonction
REFRESH-INTERVAL;VALUE=DURATION:PT1H
X-Robots-Tag:noindex
X-PUBLISHED-TTL:PT1H
BEGIN:VTIMEZONE
TZID:Europe/Paris
BEGIN:DAYLIGHT
TZOFFSETFROM:+0100
TZOFFSETTO:+0200
TZNAME:CEST
DTSTART:20240331T010000
END:DAYLIGHT
BEGIN:STANDARD
TZOFFSETFROM:+0200
TZOFFSETTO:+0100
TZNAME:CET
DTSTART:20241027T010000
END:STANDARD
BEGIN:DAYLIGHT
TZOFFSETFROM:+0100
TZOFFSETTO:+0200
TZNAME:CEST
DTSTART:20250330T010000
END:DAYLIGHT
BEGIN:STANDARD
TZOFFSETFROM:+0200
TZOFFSETTO:+0100
TZNAME:CET
DTSTART:20251026T010000
END:STANDARD
BEGIN:DAYLIGHT
TZOFFSETFROM:+0100
TZOFFSETTO:+0200
TZNAME:CEST
DTSTART:20260329T010000
END:DAYLIGHT
BEGIN:STANDARD
TZOFFSETFROM:+0200
TZOFFSETTO:+0100
TZNAME:CET
DTSTART:20261025T010000
END:STANDARD
END:VTIMEZONE
BEGIN:VEVENT
DTSTART;TZID=Europe/Paris:20251120T190000
DTEND;TZID=Europe/Paris:20251120T220000
DTSTAMP:20260422T190559
CREATED:20251111T183516Z
LAST-MODIFIED:20251111T183709Z
UID:10000516-1763665200-1763676000@mqj.ch
SUMMARY:HELVETIAROCKT
DESCRIPTION:Bandworkshop Local Gig\nAvec:\nRednova (SG)\nno idea (ZH)\nSLIV (GE)\nEntrée gratuite\nQu’est-ce que Helvetiarockt? \nHelvetiarockt t’offre la possibilité de monter un groupe dans le cadre d’un de nos bandworkshops. Pendant un an\, nos coachs t’accompagnent de répétition en répétition\, de la première rencontre avec les autres participante·x·s à vos premiers concerts. Nos bandworkshops ont lieu dans toute la Suisse et sont assurés par des musicienne·x·s professionnelle·x·s habituée·x·s à se produire sur scène. Ensemble\, vous explorerez différents registres musicaux\, improviserez et définirez votre propre style. À l’automne\, vous donnerez vos premiers concerts\, point d’orgue de ce projet. \nTu as entre 14 et 25 ans et t’identifies comme fille\, jeune femme ou personne intersexe\, non-binaire\, trans ou agenre ? Alors lance-toi sans attendre : tu peux dès à présent t’inscrire pour 2026 ! Nos bandworkshops démarrent dès que le groupe est au complet\, idéalement autour de février. \nBERNE\, BÂLE\, GENÈVE\, GRISONS\, LA-CHAUX-DE-FONDS\, SAINT-GALL\, BELLINZONA\, VAUD\, ZURICH  \n 
URL:https://mqj.ch/event/helvetiarockt/
LOCATION:L’étincelle\, 18bis Avenue Sainte-Clotilde\, Genève\, Genève\, 1205\, Switzerland
CATEGORIES:Étincelle
ATTACH;FMTTYPE=image/jpeg:https://mqj.ch/wp-content/uploads/2025/11/Helvetiarockt.jpg
ORGANIZER;CN="Association de la Maison du Quartier de la Jonction":MAILTO:mqj@mqj.ch
END:VEVENT
END:VCALENDAR