BEGIN:VCALENDAR
VERSION:2.0
PRODID:-//Maison Du Quartier de la Jonction - ECPv6.15.20//NONSGML v1.0//EN
CALSCALE:GREGORIAN
METHOD:PUBLISH
X-WR-CALNAME:Maison Du Quartier de la Jonction
X-ORIGINAL-URL:https://mqj.ch
X-WR-CALDESC:Évènements pour Maison Du Quartier de la Jonction
REFRESH-INTERVAL;VALUE=DURATION:PT1H
X-Robots-Tag:noindex
X-PUBLISHED-TTL:PT1H
BEGIN:VTIMEZONE
TZID:Europe/Paris
BEGIN:DAYLIGHT
TZOFFSETFROM:+0100
TZOFFSETTO:+0200
TZNAME:CEST
DTSTART:20240331T010000
END:DAYLIGHT
BEGIN:STANDARD
TZOFFSETFROM:+0200
TZOFFSETTO:+0100
TZNAME:CET
DTSTART:20241027T010000
END:STANDARD
BEGIN:DAYLIGHT
TZOFFSETFROM:+0100
TZOFFSETTO:+0200
TZNAME:CEST
DTSTART:20250330T010000
END:DAYLIGHT
BEGIN:STANDARD
TZOFFSETFROM:+0200
TZOFFSETTO:+0100
TZNAME:CET
DTSTART:20251026T010000
END:STANDARD
BEGIN:DAYLIGHT
TZOFFSETFROM:+0100
TZOFFSETTO:+0200
TZNAME:CEST
DTSTART:20260329T010000
END:DAYLIGHT
BEGIN:STANDARD
TZOFFSETFROM:+0200
TZOFFSETTO:+0100
TZNAME:CET
DTSTART:20261025T010000
END:STANDARD
END:VTIMEZONE
BEGIN:VEVENT
DTSTART;TZID=Europe/Paris:20251105T190000
DTEND;TZID=Europe/Paris:20251105T203000
DTSTAMP:20260423T022816
CREATED:20251103T102430Z
LAST-MODIFIED:20251103T102502Z
UID:10000500-1762369200-1762374600@mqj.ch
SUMMARY:Là où j'ai peur\, j'irai
DESCRIPTION:« Là où j’ai peur\, j’irai » est une création de théâtre musical autour de la figure d’Anne Sylvestre. \nOn a souvent réduit Anne Sylvestre à ses fabulettes\, ses chansons pour enfants.\nPourtant\, elle est une autrice-compositrice-interprète parmi les plus grandes du XXe siècle\, reconnue pour son engagement féministe et ses textes poétiques et profondément humains. Une plume et une voix conteuse d’histoires d’amour\, de guerres\, de couples\, de femmes\, de vies comme les nôtres. \nDans une petite librairie avec bar et piano\, trois femmes apprennent la mort d’Anne Sylvestre. Elles vont évoquer chacune leur Anne\, leur rencontre\, leur expérience\, leur vie tourneboulée par une de ses mélodies. Elles parlent d’elle en parlant d’elles – à moins que ce ne soit l’inverse : ces histoires de vies\, conventionnelles ou hors normes\, pointent vers l’essentiel des liens entre les gens. \nUn homme\, au piano\, écoute ces femmes. Il les accompagne. Ils se comprennent. Une fraternité tonique se dilate jusqu’à l’adelphité inspirante et heureuse\, dans une ivresse musicale enchevêtrant jeu et voix. \nCette création mêlant textes inédits et chansons de la compositrice est une claque autant qu’une main tendue\, qui secoue et réconcilie\, pétillante d’humour et d’humanité. \n  \nIdée et conception du spectacle : Lorianne Cherpillod\nTexte : Mélanie Chappuis\nMise en scène : Madeleine Piguet Raykov\nJeu et chant : Lorianne Cherpillod\, Alexandra Marcos\, Maria Mettral\nMusique : Marc Berman\nCréation lumière : Adrien Laneau\nScénographie et costumes : Anne-Laure Futain\nAssistanat de mise en scène : Garance Félix \n 
URL:https://mqj.ch/event/la-ou-jai-peur-jirai/2025-11-05/
LOCATION:L’étincelle\, 18bis Avenue Sainte-Clotilde\, Genève\, Genève\, 1205\, Switzerland
CATEGORIES:Étincelle
ATTACH;FMTTYPE=image/jpeg:https://mqj.ch/wp-content/uploads/2025/11/La-ou-jai-peur.jpg
ORGANIZER;CN="Association de la Maison du Quartier de la Jonction":MAILTO:mqj@mqj.ch
END:VEVENT
END:VCALENDAR