BEGIN:VCALENDAR
VERSION:2.0
PRODID:-//Maison Du Quartier de la Jonction - ECPv6.15.20//NONSGML v1.0//EN
CALSCALE:GREGORIAN
METHOD:PUBLISH
X-WR-CALNAME:Maison Du Quartier de la Jonction
X-ORIGINAL-URL:https://mqj.ch
X-WR-CALDESC:Évènements pour Maison Du Quartier de la Jonction
REFRESH-INTERVAL;VALUE=DURATION:PT1H
X-Robots-Tag:noindex
X-PUBLISHED-TTL:PT1H
BEGIN:VTIMEZONE
TZID:Europe/Paris
BEGIN:DAYLIGHT
TZOFFSETFROM:+0100
TZOFFSETTO:+0200
TZNAME:CEST
DTSTART:20240331T010000
END:DAYLIGHT
BEGIN:STANDARD
TZOFFSETFROM:+0200
TZOFFSETTO:+0100
TZNAME:CET
DTSTART:20241027T010000
END:STANDARD
BEGIN:DAYLIGHT
TZOFFSETFROM:+0100
TZOFFSETTO:+0200
TZNAME:CEST
DTSTART:20250330T010000
END:DAYLIGHT
BEGIN:STANDARD
TZOFFSETFROM:+0200
TZOFFSETTO:+0100
TZNAME:CET
DTSTART:20251026T010000
END:STANDARD
BEGIN:DAYLIGHT
TZOFFSETFROM:+0100
TZOFFSETTO:+0200
TZNAME:CEST
DTSTART:20260329T010000
END:DAYLIGHT
BEGIN:STANDARD
TZOFFSETFROM:+0200
TZOFFSETTO:+0100
TZNAME:CET
DTSTART:20261025T010000
END:STANDARD
END:VTIMEZONE
BEGIN:VEVENT
DTSTART;TZID=Europe/Paris:20251016T190000
DTEND;TZID=Europe/Paris:20251016T203000
DTSTAMP:20260422T191326
CREATED:20251002T150647Z
LAST-MODIFIED:20251010T133503Z
UID:10000108-1760641200-1760646600@mqj.ch
SUMMARY:Joueurs (Théâtre) par la Cie Les Maladroits
DESCRIPTION:2021\, Israël-Palestine. Thomas rentre de Cisjordanie et retrouve son ami\, Youssef\, dans son atelier en France. Commence alors un voyage immobile comme un besoin d’engagement pour l’un\, comme une quête d’héritage pour l’autre. Comment partager ce voyage sans trahir la réalité ? Jouer pour comprendre\, jouer pour exister\, raconter\, inventer\, tricher parfois\, perdre et rejouer encore. Le voyage de Thomas est une plongée dans l’histoire palestinienne d’hier et d’aujourd’hui. Une série de portraits nous transportent en Israël et dans les territoires occupés. Thomas et Youssef construisent leur histoire avec du bois\, des briques\, des théières\, avec ce qu’ils ont sous la main. La question palestinienne est une inlassable histoire de construction et de destruction. Il restera des fragments\, des éclats\, de la poussière et peut-être une utopie.\nAprès le voyage d’Hugo Vercelletto en 2015 en Cisjordanie\, coauteur et interprète du spectacle\, la Compagnie les Maladroits a souhaité traiter d’un conflit centenaire\, dans un pays qui n’est pas le leur\, mais où des personnes dans leurs entourages sont parties « voir »\, voir comme un besoin existentiel d’être au monde. Après une série d’entretiens et une recherche documentaire\, ils tissent une fiction au cœur de la question palestinienne. \n \nQuinzaine Palestine – du 6 au 19 octobre 2025 \nAssociation 60×60 – Association de la Maison du Quartier de la Jonction (MQJ) – Association des Habitants de la Jonction (AHJ) – Bibliothèque Municipale de la Jonction – Cinélux – Coordination Etudiante pour la Palestine (CEP-Unige) – Le Courrier – Le Spoutnik \nChange for Palestine – Yaffa \nApartheid Free Zone (AFZ) – Collectif Urgence Palestine (CUP) – Mouvement Boycott\, Désinvestissement et Sanctions (BDS) – Palestine Filmer C’est Exister (PFC’E) –  Stand With Palestine (SWP) \nAvec le soutien de la Ville de Genève \n  \nJoueurs\nCréation collective: Benjamin Ducasse\, Valentin Pasgrimaud\, Hugo Vercelletto et Arno Wögerbauer\nMise en scène: Valentin Pasgrimaud et Arno Wögerbauer\nJeu: Benjamin Ducasse et Hugo Vercelletto\nCollaboration artistique: Éric de Sarria\nCréation lumière: Jessica Hemme\nCréation sonore: Erwan Foucault\nCréation costumes: Sarah Leterrier\nScénographie: Maïté Martin\nCollaboration à l’écriture: Guillaume Lavenant\nRégie générale et logistique de tournée: Azéline Cornut\nRégie lumière (en alternance): Jessica Hemme et Gianni Morand\nRégie son: Erwan Foucault\nAdministration: Pauline Bardin\nDirection de production et diffusion: Elsa Posnic \nTout public à partir de 14 ans\nDurée 1h30 \nCoproductions: Théâtre de Lorient\, Centre dramatique national / Théâtre Le Passage\, Scène conventionnée / Le Trident\, Scène nationale de Cherbourg en Cotentin / Le Théâtre de Laval\, Centre national de la marionnette en préparation / Le Sablier\, Centre national de la marionnette en préparation / Le Grand R\, Scène nationale de La Roche-sur-Yon / Les 3T-Théâtres de Châtellerault\, Scène conventionnée /Théâtre Quartier Libre / Théâtre Jean Arp\, Scène conventionnée / L’Hectare\, Centre national de la marionnette en préparation / La Soufflerie\, scène conventionnée de Rezé / Festival International MarioNNettes de Neuchâtel \nLa Compagnie les Maladroits est conventionnée par l’État/ Ministère de la Culture/ DRAC des Pays de la Loire\, le Conseil départemental de Loire‑Atlantique et la Ville de Nantes. Elle a été soutenue par la région Pays de la Loire de 2016 à 2024. Elle est associée au Mouffetard\, Centre national de la Marionnette à Paris (75) de 2022 à 2025 et au Sablier\, Centre national de la Marionnette à Ifs (14) de 2022 à 2026. Elle est associée à Mixt Terrain d’arts en Loire-Atlantique à Nantes (44) à partir de la saison 2025-2026.\nSpectacle programmé dans le cadre de Voisinages 23/24\, dispositif soutenu par la Région des Pays de la Loire. \nPhotographies du spectacle: Damien Bossis \nSite internet de la compagnie: https://www.lesmaladroits.com/
URL:https://mqj.ch/event/joueurs-theatre/2025-10-16/
LOCATION:L’étincelle\, 18bis Avenue Sainte-Clotilde\, Genève\, Genève\, 1205\, Switzerland
CATEGORIES:Étincelle,Tout Public
ATTACH;FMTTYPE=image/jpeg:https://mqj.ch/wp-content/uploads/2025/10/Bandeau.jpg
ORGANIZER;CN="Association de la Maison du Quartier de la Jonction":MAILTO:mqj@mqj.ch
END:VEVENT
END:VCALENDAR