BEGIN:VCALENDAR
VERSION:2.0
PRODID:-//Maison Du Quartier de la Jonction - ECPv6.15.20//NONSGML v1.0//EN
CALSCALE:GREGORIAN
METHOD:PUBLISH
X-ORIGINAL-URL:https://mqj.ch
X-WR-CALDESC:Évènements pour Maison Du Quartier de la Jonction
REFRESH-INTERVAL;VALUE=DURATION:PT1H
X-Robots-Tag:noindex
X-PUBLISHED-TTL:PT1H
BEGIN:VTIMEZONE
TZID:Europe/Paris
BEGIN:DAYLIGHT
TZOFFSETFROM:+0100
TZOFFSETTO:+0200
TZNAME:CEST
DTSTART:20240331T010000
END:DAYLIGHT
BEGIN:STANDARD
TZOFFSETFROM:+0200
TZOFFSETTO:+0100
TZNAME:CET
DTSTART:20241027T010000
END:STANDARD
BEGIN:DAYLIGHT
TZOFFSETFROM:+0100
TZOFFSETTO:+0200
TZNAME:CEST
DTSTART:20250330T010000
END:DAYLIGHT
BEGIN:STANDARD
TZOFFSETFROM:+0200
TZOFFSETTO:+0100
TZNAME:CET
DTSTART:20251026T010000
END:STANDARD
BEGIN:DAYLIGHT
TZOFFSETFROM:+0100
TZOFFSETTO:+0200
TZNAME:CEST
DTSTART:20260329T010000
END:DAYLIGHT
BEGIN:STANDARD
TZOFFSETFROM:+0200
TZOFFSETTO:+0100
TZNAME:CET
DTSTART:20261025T010000
END:STANDARD
END:VTIMEZONE
BEGIN:VEVENT
DTSTART;TZID=Europe/Paris:20251015T200000
DTEND;TZID=Europe/Paris:20251015T220000
DTSTAMP:20260422T174642
CREATED:20251002T190313Z
LAST-MODIFIED:20251015T124909Z
UID:10000495-1760558400-1760565600@mqj.ch
SUMMARY:Aisheen (still alive in Gaza) de Nicolas Wadimoff (Projection)
DESCRIPTION:avec Palestine\, Filmer C’est Exister \n\n\n\nMercredi 15 octobre à 20h00 au Spoutnik\n\nEn présence du réalisateur.\nPrécédé à 19h d’un buffet à prix libre\n\n\n\n\n\n  \nQuinzaine Palestine – du 6 au 19 octobre 2025 \nAssociation 60×60 – Association de la Maison du Quartier de la Jonction (MQJ) – Association des Habitants de la Jonction (AHJ) – Bibliothèque Municipale de la Jonction – Cinélux – Coordination Etudiante pour la Palestine (CEP-Unige) – Le Courrier – Le Spoutnik \nChange for Palestine – Yaffa \nApartheid Free Zone (AFZ) – Collectif Urgence Palestine (CUP) – Mouvement Boycott\, Désinvestissement et Sanctions (BDS) – Palestine Filmer C’est Exister (PFC’E) – Stand With Palestine (SWP) \nAvec le soutien de la Ville de Genève
URL:https://mqj.ch/event/aisheen-still-alive-in-gaza-de-nicolas-wadimoff-projection/
LOCATION:Le Spoutnik
CATEGORIES:Étincelle,Tout Public
ATTACH;FMTTYPE=image/jpeg:https://mqj.ch/wp-content/uploads/2025/10/Bandeau.jpg
END:VEVENT
END:VCALENDAR