BEGIN:VCALENDAR
VERSION:2.0
PRODID:-//Maison Du Quartier de la Jonction - ECPv6.15.20//NONSGML v1.0//EN
CALSCALE:GREGORIAN
METHOD:PUBLISH
X-ORIGINAL-URL:https://mqj.ch
X-WR-CALDESC:Évènements pour Maison Du Quartier de la Jonction
REFRESH-INTERVAL;VALUE=DURATION:PT1H
X-Robots-Tag:noindex
X-PUBLISHED-TTL:PT1H
BEGIN:VTIMEZONE
TZID:Europe/Paris
BEGIN:DAYLIGHT
TZOFFSETFROM:+0100
TZOFFSETTO:+0200
TZNAME:CEST
DTSTART:20240331T010000
END:DAYLIGHT
BEGIN:STANDARD
TZOFFSETFROM:+0200
TZOFFSETTO:+0100
TZNAME:CET
DTSTART:20241027T010000
END:STANDARD
BEGIN:DAYLIGHT
TZOFFSETFROM:+0100
TZOFFSETTO:+0200
TZNAME:CEST
DTSTART:20250330T010000
END:DAYLIGHT
BEGIN:STANDARD
TZOFFSETFROM:+0200
TZOFFSETTO:+0100
TZNAME:CET
DTSTART:20251026T010000
END:STANDARD
BEGIN:DAYLIGHT
TZOFFSETFROM:+0100
TZOFFSETTO:+0200
TZNAME:CEST
DTSTART:20260329T010000
END:DAYLIGHT
BEGIN:STANDARD
TZOFFSETFROM:+0200
TZOFFSETTO:+0100
TZNAME:CET
DTSTART:20261025T010000
END:STANDARD
END:VTIMEZONE
BEGIN:VEVENT
DTSTART;TZID=Europe/Paris:20251011T083000
DTEND;TZID=Europe/Paris:20251011T180000
DTSTAMP:20260422T174716
CREATED:20251203T134828Z
LAST-MODIFIED:20251203T135111Z
UID:10001799-1760171400-1760205600@mqj.ch
SUMMARY:Sortie Tout Public - octobre
DESCRIPTION:En famille\, entre ami.e.s\, seul.e\, ou accompagné.e\,\ncréer des liens entre les habitant.e.s du quartier\, faciliter la rencontre en proposant une sortie\, une activité et comme le dit si bien Françoise Dolto:\nTout groupe humain prend sa richesse dans la communication\, l’entraide et la solidarité visant à un but commun: l’épanouissement de chacun dans le respect des différences. 
URL:https://mqj.ch/event/sortie-tout-public-octobre/
LOCATION:Genève
CATEGORIES:Tout Public
ATTACH;FMTTYPE=image/png:https://mqj.ch/wp-content/uploads/2025/12/Affiche-Sortie-Tout-public-11-octobre-.png
END:VEVENT
BEGIN:VEVENT
DTSTART;TZID=Europe/Paris:20251011T140000
DTEND;TZID=Europe/Paris:20251011T153000
DTSTAMP:20260422T174716
CREATED:20251002T171912Z
LAST-MODIFIED:20251003T083437Z
UID:10000478-1760191200-1760196600@mqj.ch
SUMMARY:Dabke : danse traditionnelle palestinienne avec Ahmed Alazbat (Atelier)
DESCRIPTION:lundi 6 octobre de 17h00 à 18h30 à la MQ Jonction \nsamedi 11 octobre de 14h00 à 15h30 à la MQ Jonction\nsuivi d’un goûter offert par Croc’Orient de Raya Elhajhasan \n  \nQuinzaine Palestine – du 6 au 19 octobre 2025 \nAssociation 60×60 – Association de la Maison du Quartier de la Jonction (MQJ) – Association des Habitants de la Jonction (AHJ) – Bibliothèque Municipale de la Jonction – Cinélux – Coordination Etudiante pour la Palestine (CEP-Unige) – Le Courrier – Le Spoutnik \nChange for Palestine – Yaffa \nApartheid Free Zone (AFZ) – Collectif Urgence Palestine (CUP) – Mouvement Boycott\, Désinvestissement et Sanctions (BDS) – Palestine Filmer C’est Exister (PFC’E) – Stand With Palestine (SWP) \nAvec le soutien de la Ville de Genève
URL:https://mqj.ch/event/dabke-danse-traditionnelle-palestinienne-avec-ahmed-alazbat-atelier/2025-10-11/
LOCATION:Maison du Quartier de la Jonction
CATEGORIES:Étincelle,Tout Public
ATTACH;FMTTYPE=image/jpeg:https://mqj.ch/wp-content/uploads/2025/10/Bandeau.jpg
ORGANIZER;CN="Association de la Maison du Quartier de la Jonction":MAILTO:mqj@mqj.ch
END:VEVENT
BEGIN:VEVENT
DTSTART;TZID=Europe/Paris:20251011T160000
DTEND;TZID=Europe/Paris:20251011T170000
DTSTAMP:20260422T174716
CREATED:20251002T191603Z
LAST-MODIFIED:20251003T084848Z
UID:10000498-1760198400-1760202000@mqj.ch
SUMMARY:Goûter offert par Croc’Orient de Raya Elhajhasan
DESCRIPTION:samedi 11 octobre de 16h00 à 17h00\n\n  \nQuinzaine Palestine – du 6 au 19 octobre 2025 \nAssociation 60×60 – Association de la Maison du Quartier de la Jonction (MQJ) – Association des Habitants de la Jonction (AHJ) – Bibliothèque Municipale de la Jonction – Cinélux – Coordination Etudiante pour la Palestine (CEP-Unige) – Le Courrier – Le Spoutnik \nChange for Palestine – Yaffa \nApartheid Free Zone (AFZ) – Collectif Urgence Palestine (CUP) – Mouvement Boycott\, Désinvestissement et Sanctions (BDS) – Palestine Filmer C’est Exister (PFC’E) – Stand With Palestine (SWP) \nAvec le soutien de la Ville de Genève \n 
URL:https://mqj.ch/event/gouter-offert-par-crocorient-de-raya-elhajhasan/
LOCATION:Maison du Quartier de la Jonction
CATEGORIES:Étincelle,Tout Public
ATTACH;FMTTYPE=image/jpeg:https://mqj.ch/wp-content/uploads/2025/10/Bandeau.jpg
ORGANIZER;CN="Association de la Maison du Quartier de la Jonction":MAILTO:mqj@mqj.ch
END:VEVENT
BEGIN:VEVENT
DTSTART;TZID=Europe/Paris:20251011T170000
DTEND;TZID=Europe/Paris:20251011T183000
DTSTAMP:20260422T174716
CREATED:20251002T172509Z
LAST-MODIFIED:20251003T083509Z
UID:10000483-1760202000-1760207400@mqj.ch
SUMMARY:Tatreez : broderie traditionnelle palestinienne avec Nur Dasoki (Atelier)
DESCRIPTION:lundi 6 octobre de 17h00 à 18h30\nmardi 7 octobre de 17h00 à 18h30\njeudi 9 octobre de 17h00 à 18h30\nvendredi 10 octobre de 17h00 à 18h30\nsamedi 11 octobre de 17h00 à 18h30\nsuivi d’un défilé de robes traditionnelles palestiniennes – avec des jeunes du quartier de la Jonction qui porteront les robes de la collection réunie par Rania Madi et seront accompagnés au oud par Ahmad Dari. \n  \nQuinzaine Palestine – du 6 au 19 octobre 2025 \nAssociation 60×60 – Association de la Maison du Quartier de la Jonction (MQJ) – Association des Habitants de la Jonction (AHJ) – Bibliothèque Municipale de la Jonction – Cinélux – Coordination Etudiante pour la Palestine (CEP-Unige) – Le Courrier – Le Spoutnik \nChange for Palestine – Yaffa \nApartheid Free Zone (AFZ) – Collectif Urgence Palestine (CUP) – Mouvement Boycott\, Désinvestissement et Sanctions (BDS) – Palestine Filmer C’est Exister (PFC’E) – Stand With Palestine (SWP) \nAvec le soutien de la Ville de Genève
URL:https://mqj.ch/event/tatreez-broderie-traditionnelle-palestinienne-avec-nur-dasoki-atelier/2025-10-11/
LOCATION:Maison du Quartier de la Jonction
CATEGORIES:Étincelle,Tout Public
ATTACH;FMTTYPE=image/jpeg:https://mqj.ch/wp-content/uploads/2025/10/Bandeau.jpg
ORGANIZER;CN="Association de la Maison du Quartier de la Jonction":MAILTO:mqj@mqj.ch
END:VEVENT
BEGIN:VEVENT
DTSTART;TZID=Europe/Paris:20251011T190000
DTEND;TZID=Europe/Paris:20251011T210000
DTSTAMP:20260422T174716
CREATED:20251002T191328Z
LAST-MODIFIED:20251003T084909Z
UID:10000497-1760209200-1760216400@mqj.ch
SUMMARY:Défilé de robes traditionnelles palestiniennes
DESCRIPTION:avec des jeunes du quartier de la Jonction qui porteront les robes de la collection réunie par Rania Madi et seront accompagnés au oud par Ahmad Dari. \n\n\n\nSamedi 11 octobre à 19h à l’étincelle (MQ Jonction) – entrée libre\n\n\n\n  \nQuinzaine Palestine – du 6 au 19 octobre 2025 \nAssociation 60×60 – Association de la Maison du Quartier de la Jonction (MQJ) – Association des Habitants de la Jonction (AHJ) – Bibliothèque Municipale de la Jonction – Cinélux – Coordination Etudiante pour la Palestine (CEP-Unige) – Le Courrier – Le Spoutnik \nChange for Palestine – Yaffa \nApartheid Free Zone (AFZ) – Collectif Urgence Palestine (CUP) – Mouvement Boycott\, Désinvestissement et Sanctions (BDS) – Palestine Filmer C’est Exister (PFC’E) – Stand With Palestine (SWP) \nAvec le soutien de la Ville de Genève
URL:https://mqj.ch/event/defile-de-robes-traditionnelles-palestiniennes/
LOCATION:Maison du Quartier de la Jonction
CATEGORIES:Étincelle,Tout Public
ATTACH;FMTTYPE=image/jpeg:https://mqj.ch/wp-content/uploads/2025/10/Bandeau.jpg
ORGANIZER;CN="Association de la Maison du Quartier de la Jonction":MAILTO:mqj@mqj.ch
END:VEVENT
END:VCALENDAR