BEGIN:VCALENDAR
VERSION:2.0
PRODID:-//Maison Du Quartier de la Jonction - ECPv6.15.20//NONSGML v1.0//EN
CALSCALE:GREGORIAN
METHOD:PUBLISH
X-WR-CALNAME:Maison Du Quartier de la Jonction
X-ORIGINAL-URL:https://mqj.ch
X-WR-CALDESC:Évènements pour Maison Du Quartier de la Jonction
REFRESH-INTERVAL;VALUE=DURATION:PT1H
X-Robots-Tag:noindex
X-PUBLISHED-TTL:PT1H
BEGIN:VTIMEZONE
TZID:Europe/Paris
BEGIN:DAYLIGHT
TZOFFSETFROM:+0100
TZOFFSETTO:+0200
TZNAME:CEST
DTSTART:20240331T010000
END:DAYLIGHT
BEGIN:STANDARD
TZOFFSETFROM:+0200
TZOFFSETTO:+0100
TZNAME:CET
DTSTART:20241027T010000
END:STANDARD
BEGIN:DAYLIGHT
TZOFFSETFROM:+0100
TZOFFSETTO:+0200
TZNAME:CEST
DTSTART:20250330T010000
END:DAYLIGHT
BEGIN:STANDARD
TZOFFSETFROM:+0200
TZOFFSETTO:+0100
TZNAME:CET
DTSTART:20251026T010000
END:STANDARD
BEGIN:DAYLIGHT
TZOFFSETFROM:+0100
TZOFFSETTO:+0200
TZNAME:CEST
DTSTART:20260329T010000
END:DAYLIGHT
BEGIN:STANDARD
TZOFFSETFROM:+0200
TZOFFSETTO:+0100
TZNAME:CET
DTSTART:20261025T010000
END:STANDARD
END:VTIMEZONE
BEGIN:VEVENT
DTSTART;TZID=Europe/Paris:20251010T170000
DTEND;TZID=Europe/Paris:20251010T183000
DTSTAMP:20260424T162609
CREATED:20251002T172509Z
LAST-MODIFIED:20251003T083509Z
UID:10000482-1760115600-1760121000@mqj.ch
SUMMARY:Tatreez : broderie traditionnelle palestinienne avec Nur Dasoki (Atelier)
DESCRIPTION:lundi 6 octobre de 17h00 à 18h30\nmardi 7 octobre de 17h00 à 18h30\njeudi 9 octobre de 17h00 à 18h30\nvendredi 10 octobre de 17h00 à 18h30\nsamedi 11 octobre de 17h00 à 18h30\nsuivi d’un défilé de robes traditionnelles palestiniennes – avec des jeunes du quartier de la Jonction qui porteront les robes de la collection réunie par Rania Madi et seront accompagnés au oud par Ahmad Dari. \n  \nQuinzaine Palestine – du 6 au 19 octobre 2025 \nAssociation 60×60 – Association de la Maison du Quartier de la Jonction (MQJ) – Association des Habitants de la Jonction (AHJ) – Bibliothèque Municipale de la Jonction – Cinélux – Coordination Etudiante pour la Palestine (CEP-Unige) – Le Courrier – Le Spoutnik \nChange for Palestine – Yaffa \nApartheid Free Zone (AFZ) – Collectif Urgence Palestine (CUP) – Mouvement Boycott\, Désinvestissement et Sanctions (BDS) – Palestine Filmer C’est Exister (PFC’E) – Stand With Palestine (SWP) \nAvec le soutien de la Ville de Genève
URL:https://mqj.ch/event/tatreez-broderie-traditionnelle-palestinienne-avec-nur-dasoki-atelier/2025-10-10/
LOCATION:Maison du Quartier de la Jonction
CATEGORIES:Étincelle,Tout Public
ATTACH;FMTTYPE=image/jpeg:https://mqj.ch/wp-content/uploads/2025/10/Bandeau.jpg
ORGANIZER;CN="Association de la Maison du Quartier de la Jonction":MAILTO:mqj@mqj.ch
END:VEVENT
BEGIN:VEVENT
DTSTART;TZID=Europe/Paris:20251010T180000
DTEND;TZID=Europe/Paris:20251010T190000
DTSTAMP:20260424T162609
CREATED:20251002T181709Z
LAST-MODIFIED:20251003T084358Z
UID:10000491-1760119200-1760122800@mqj.ch
SUMMARY:Voix de la diaspora palestinienne : Histoires plurielles et identité\, parcours de palestinien·ne·s à Genève (Table ronde)
DESCRIPTION:Témoignages et discussions proposées par Change For Palestine avec Anaïs Nariman Aïk\, Ataa Dabour et Joe Yagchi \nVendredi 10 octobre à 18h00 à la MQ Jonction \n\n\n\n\n\nSuivi d’un Régal\, repas communautaire à 5.- CHF\n\n\n\n\n\n  \nQuinzaine Palestine – du 6 au 19 octobre 2025 \nAssociation 60×60 – Association de la Maison du Quartier de la Jonction (MQJ) – Association des Habitants de la Jonction (AHJ) – Bibliothèque Municipale de la Jonction – Cinélux – Coordination Etudiante pour la Palestine (CEP-Unige) – Le Courrier – Le Spoutnik \nChange for Palestine – Yaffa \nApartheid Free Zone (AFZ) – Collectif Urgence Palestine (CUP) – Mouvement Boycott\, Désinvestissement et Sanctions (BDS) – Palestine Filmer C’est Exister (PFC’E) – Stand With Palestine (SWP) \nAvec le soutien de la Ville de Genève
URL:https://mqj.ch/event/voix-de-la-diaspora-palestinienne-histoires-plurielles-et-identite-parcours-de-palestinien%c2%b7ne%c2%b7s-a-geneve-table-ronde/
LOCATION:Maison du Quartier de la Jonction
CATEGORIES:Étincelle,Tout Public
ATTACH;FMTTYPE=image/jpeg:https://mqj.ch/wp-content/uploads/2025/10/Bandeau.jpg
ORGANIZER;CN="Association de la Maison du Quartier de la Jonction":MAILTO:mqj@mqj.ch
END:VEVENT
BEGIN:VEVENT
DTSTART;TZID=Europe/Paris:20251010T190000
DTEND;TZID=Europe/Paris:20251010T203000
DTSTAMP:20260424T162609
CREATED:20251002T182634Z
LAST-MODIFIED:20251003T084417Z
UID:10000493-1760122800-1760128200@mqj.ch
SUMMARY:Régal du Vendredi : repas communautaires à 5.- CHF
DESCRIPTION:Avec l’association Change for Palestine \n\n Vendredi 10 octobre à 19h à la MQ Jonction – sur réservation\n\nPrécédé à 19h par « Voix de la diaspora palestinienne » témoignages et discussions proposées par Change For Palestine.\nSuivi à 20h30 par « Voix de femmes de Palestine »\, témoignages et discussions proposées par le Collectif Urgence Palestine-GE.\n\n\n\n  \nQuinzaine Palestine – du 6 au 19 octobre 2025 \nAssociation 60×60 – Association de la Maison du Quartier de la Jonction (MQJ) – Association des Habitants de la Jonction (AHJ) – Bibliothèque Municipale de la Jonction – Cinélux – Coordination Etudiante pour la Palestine (CEP-Unige) – Le Courrier – Le Spoutnik \nChange for Palestine – Yaffa \nApartheid Free Zone (AFZ) – Collectif Urgence Palestine (CUP) – Mouvement Boycott\, Désinvestissement et Sanctions (BDS) – Palestine Filmer C’est Exister (PFC’E) – Stand With Palestine (SWP) \nAvec le soutien de la Ville de Genève
URL:https://mqj.ch/event/regal-du-vendredi-repas-communautaires-a-5-chf/
LOCATION:Maison du Quartier de la Jonction
CATEGORIES:Étincelle,Tout Public
ATTACH;FMTTYPE=image/jpeg:https://mqj.ch/wp-content/uploads/2025/10/Bandeau.jpg
ORGANIZER;CN="Association de la Maison du Quartier de la Jonction":MAILTO:mqj@mqj.ch
END:VEVENT
BEGIN:VEVENT
DTSTART;TZID=Europe/Paris:20251010T203000
DTEND;TZID=Europe/Paris:20251010T220000
DTSTAMP:20260424T162609
CREATED:20251002T182113Z
LAST-MODIFIED:20251003T084733Z
UID:10000492-1760128200-1760133600@mqj.ch
SUMMARY:Voix de femmes de Palestine (Table ronde)
DESCRIPTION:Témoignages et discussions proposées par le Collectif Urgence Palestine-GE et la Coordination Etudiante pour la Palestine – avec Sabreen\, gazaouie\, étudiante en théâtre à Bâle\, membre d’associations de soutien à la Palestine\, Céline de Richoufftz\, déléguée MSF\, missions en Palestine (Gaza avril 2025 et Hébron actuellement)\, Maya Elshrafi\, gazaouie\, travaille dans une organisation internationale en Suisse. Modération : Soha Bechara et Céline Brun\, CUP Ge\, et Sakina Berreghioua\, CEP Unige \nVendredi 10 octobre à 20h30 à la MQ Jonction \n\n\n\n\n\nPrécédé à 19h d’un Régal\, repas communautaire à 5.- CHF\, proposé par Change For Palestine\nPrécédé à 18h par « Voix de la diaspora palestinienne »\, proposé par Change For Palestine\n\n\n\n\n\nQuinzaine Palestine – du 6 au 19 octobre 2025 \nAssociation 60×60 – Association de la Maison du Quartier de la Jonction (MQJ) – Association des Habitants de la Jonction (AHJ) – Bibliothèque Municipale de la Jonction – Cinélux – Coordination Etudiante pour la Palestine (CEP-Unige) – Le Courrier – Le Spoutnik \nChange for Palestine – Yaffa \nApartheid Free Zone (AFZ) – Collectif Urgence Palestine (CUP) – Mouvement Boycott\, Désinvestissement et Sanctions (BDS) – Palestine Filmer C’est Exister (PFC’E) – Stand With Palestine (SWP) \nAvec le soutien de la Ville de Genève
URL:https://mqj.ch/event/voix-de-femmes-de-palestine-table-ronde/
LOCATION:Maison du Quartier de la Jonction
CATEGORIES:Étincelle,Tout Public
ATTACH;FMTTYPE=image/jpeg:https://mqj.ch/wp-content/uploads/2025/10/Bandeau.jpg
ORGANIZER;CN="Association de la Maison du Quartier de la Jonction":MAILTO:mqj@mqj.ch
END:VEVENT
END:VCALENDAR