BEGIN:VCALENDAR
VERSION:2.0
PRODID:-//Maison Du Quartier de la Jonction - ECPv6.15.20//NONSGML v1.0//EN
CALSCALE:GREGORIAN
METHOD:PUBLISH
X-ORIGINAL-URL:https://mqj.ch
X-WR-CALDESC:Évènements pour Maison Du Quartier de la Jonction
REFRESH-INTERVAL;VALUE=DURATION:PT1H
X-Robots-Tag:noindex
X-PUBLISHED-TTL:PT1H
BEGIN:VTIMEZONE
TZID:Europe/Paris
BEGIN:DAYLIGHT
TZOFFSETFROM:+0100
TZOFFSETTO:+0200
TZNAME:CEST
DTSTART:20240331T010000
END:DAYLIGHT
BEGIN:STANDARD
TZOFFSETFROM:+0200
TZOFFSETTO:+0100
TZNAME:CET
DTSTART:20241027T010000
END:STANDARD
BEGIN:DAYLIGHT
TZOFFSETFROM:+0100
TZOFFSETTO:+0200
TZNAME:CEST
DTSTART:20250330T010000
END:DAYLIGHT
BEGIN:STANDARD
TZOFFSETFROM:+0200
TZOFFSETTO:+0100
TZNAME:CET
DTSTART:20251026T010000
END:STANDARD
BEGIN:DAYLIGHT
TZOFFSETFROM:+0100
TZOFFSETTO:+0200
TZNAME:CEST
DTSTART:20260329T010000
END:DAYLIGHT
BEGIN:STANDARD
TZOFFSETFROM:+0200
TZOFFSETTO:+0100
TZNAME:CET
DTSTART:20261025T010000
END:STANDARD
END:VTIMEZONE
BEGIN:VEVENT
DTSTART;TZID=Europe/Paris:20251009T170000
DTEND;TZID=Europe/Paris:20251009T183000
DTSTAMP:20260422T160649
CREATED:20251002T172509Z
LAST-MODIFIED:20251003T083509Z
UID:10000481-1760029200-1760034600@mqj.ch
SUMMARY:Tatreez : broderie traditionnelle palestinienne avec Nur Dasoki (Atelier)
DESCRIPTION:lundi 6 octobre de 17h00 à 18h30\nmardi 7 octobre de 17h00 à 18h30\njeudi 9 octobre de 17h00 à 18h30\nvendredi 10 octobre de 17h00 à 18h30\nsamedi 11 octobre de 17h00 à 18h30\nsuivi d’un défilé de robes traditionnelles palestiniennes – avec des jeunes du quartier de la Jonction qui porteront les robes de la collection réunie par Rania Madi et seront accompagnés au oud par Ahmad Dari. \n  \nQuinzaine Palestine – du 6 au 19 octobre 2025 \nAssociation 60×60 – Association de la Maison du Quartier de la Jonction (MQJ) – Association des Habitants de la Jonction (AHJ) – Bibliothèque Municipale de la Jonction – Cinélux – Coordination Etudiante pour la Palestine (CEP-Unige) – Le Courrier – Le Spoutnik \nChange for Palestine – Yaffa \nApartheid Free Zone (AFZ) – Collectif Urgence Palestine (CUP) – Mouvement Boycott\, Désinvestissement et Sanctions (BDS) – Palestine Filmer C’est Exister (PFC’E) – Stand With Palestine (SWP) \nAvec le soutien de la Ville de Genève
URL:https://mqj.ch/event/tatreez-broderie-traditionnelle-palestinienne-avec-nur-dasoki-atelier/2025-10-09/
LOCATION:Maison du Quartier de la Jonction
CATEGORIES:Étincelle,Tout Public
ATTACH;FMTTYPE=image/jpeg:https://mqj.ch/wp-content/uploads/2025/10/Bandeau.jpg
ORGANIZER;CN="Association de la Maison du Quartier de la Jonction":MAILTO:mqj@mqj.ch
END:VEVENT
BEGIN:VEVENT
DTSTART;TZID=Europe/Paris:20251009T190000
DTEND;TZID=Europe/Paris:20251009T193000
DTSTAMP:20260422T160649
CREATED:20251002T191850Z
LAST-MODIFIED:20251003T084254Z
UID:10000499-1760036400-1760038200@mqj.ch
SUMMARY:•	Performance de la Chorale Anarchiste qui invitera le public à chanter pour la Palestine
DESCRIPTION:Jeudi 9 octobre à 19h devant la MQ Jonction\n\n  \nQuinzaine Palestine – du 6 au 19 octobre 2025 \nAssociation 60×60 – Association de la Maison du Quartier de la Jonction (MQJ) – Association des Habitants de la Jonction (AHJ) – Bibliothèque Municipale de la Jonction – Cinélux – Coordination Etudiante pour la Palestine (CEP-Unige) – Le Courrier – Le Spoutnik \nChange for Palestine – Yaffa \nApartheid Free Zone (AFZ) – Collectif Urgence Palestine (CUP) – Mouvement Boycott\, Désinvestissement et Sanctions (BDS) – Palestine Filmer C’est Exister (PFC’E) – Stand With Palestine (SWP) \nAvec le soutien de la Ville de Genève
URL:https://mqj.ch/event/performance-de-la-chorale-anarchiste-qui-invitera-le-public-a-chanter-pour-la-palestine/
LOCATION:Maison du Quartier de la Jonction
CATEGORIES:Étincelle,Tout Public
ATTACH;FMTTYPE=image/jpeg:https://mqj.ch/wp-content/uploads/2025/10/Bandeau.jpg
ORGANIZER;CN="Association de la Maison du Quartier de la Jonction":MAILTO:mqj@mqj.ch
END:VEVENT
BEGIN:VEVENT
DTSTART;TZID=Europe/Paris:20251009T193000
DTEND;TZID=Europe/Paris:20251009T220000
DTSTAMP:20260422T160649
CREATED:20251002T152446Z
LAST-MODIFIED:20251003T084322Z
UID:10000476-1760038200-1760047200@mqj.ch
SUMMARY:Gaza : Engagement et mobilisations des personnels soignants
DESCRIPTION:avec\nRohiya\, infirmière\,\nLena\, médecin\,\nÇamëri\, étudiante en médecine\,\nFlorian ou Semia\, médecins installé·e·s. \nJeudi 9 octobre à 19h30 à la MQ Jonction \nPrécédé à 19h par une performance de la Chorale Anarchiste qui invitera le public à chanter pour la Palestine \n  \nQuinzaine Palestine – du 6 au 19 octobre 2025 \nAssociation 60×60 – Association de la Maison du Quartier de la Jonction (MQJ) – Association des Habitants de la Jonction (AHJ) – Bibliothèque Municipale de la Jonction – Cinélux – Coordination Etudiante pour la Palestine (CEP-Unige) – Le Courrier – Le Spoutnik\nChange for Palestine – Yaffa\nApartheid Free Zone (AFZ) – Collectif Urgence Palestine (CUP) – Mouvement Boycott\, Désinvestissement et Sanctions (BDS) – Palestine Filmer C’est Exister (PFC’E) – Stand With Palestine (SWP)\nAvec le soutien de la Ville de Genève
URL:https://mqj.ch/event/gaza-engagement-et-mobilisations-des-personnels-soignants/
LOCATION:Maison du Quartier de la Jonction
CATEGORIES:Étincelle,Tout Public
ATTACH;FMTTYPE=image/jpeg:https://mqj.ch/wp-content/uploads/2025/10/Bandeau.jpg
ORGANIZER;CN="Association de la Maison du Quartier de la Jonction":MAILTO:mqj@mqj.ch
END:VEVENT
END:VCALENDAR