BEGIN:VCALENDAR
VERSION:2.0
PRODID:-//Maison Du Quartier de la Jonction - ECPv6.15.20//NONSGML v1.0//EN
CALSCALE:GREGORIAN
METHOD:PUBLISH
X-ORIGINAL-URL:https://mqj.ch
X-WR-CALDESC:Évènements pour Maison Du Quartier de la Jonction
REFRESH-INTERVAL;VALUE=DURATION:PT1H
X-Robots-Tag:noindex
X-PUBLISHED-TTL:PT1H
BEGIN:VTIMEZONE
TZID:Europe/Paris
BEGIN:DAYLIGHT
TZOFFSETFROM:+0100
TZOFFSETTO:+0200
TZNAME:CEST
DTSTART:20240331T010000
END:DAYLIGHT
BEGIN:STANDARD
TZOFFSETFROM:+0200
TZOFFSETTO:+0100
TZNAME:CET
DTSTART:20241027T010000
END:STANDARD
BEGIN:DAYLIGHT
TZOFFSETFROM:+0100
TZOFFSETTO:+0200
TZNAME:CEST
DTSTART:20250330T010000
END:DAYLIGHT
BEGIN:STANDARD
TZOFFSETFROM:+0200
TZOFFSETTO:+0100
TZNAME:CET
DTSTART:20251026T010000
END:STANDARD
BEGIN:DAYLIGHT
TZOFFSETFROM:+0100
TZOFFSETTO:+0200
TZNAME:CEST
DTSTART:20260329T010000
END:DAYLIGHT
BEGIN:STANDARD
TZOFFSETFROM:+0200
TZOFFSETTO:+0100
TZNAME:CET
DTSTART:20261025T010000
END:STANDARD
END:VTIMEZONE
BEGIN:VEVENT
DTSTART;TZID=Europe/Paris:20250926T190000
DTEND;TZID=Europe/Paris:20250926T200000
DTSTAMP:20260422T144719
CREATED:20250912T133118Z
LAST-MODIFIED:20250912T133244Z
UID:10000100-1758913200-1758916800@mqj.ch
SUMMARY:Sacré Cycle !
DESCRIPTION:(Seul en scène) \n« Sacré Cycle ! » est un seul en scène\, qui propose au public de plonger dans l’errance diagnostique.\nC’est une exploration de la complexité hormonale et physiologique\, un questionnement sur les tabous autour du cycle menstruel et sur la méconnaissance de notre propre corps.\nC’est un voyage initiatique joyeux et émouvant dans un univers obscur et mystique\, celui de la grotte\, comme un écho à la grotte de laquelle nous sommes tous et toutes sorti.e.s : l’utérus.\nC’est une quête vers la sororité\, l’intergénérationnel et la libération de la parole. \n“Sacré Cycle” est né d’un besoin social réel : celui de parler de sujets qui touchent presque la moitié de l’humanité\, et sur lesquels il existe encore trop peu de recherches… C’est donc par le biais du théâtre\, du jeu et de l’humour\, que nous espérons contribuer à réduire les tabous autour du cycle. Par le spectacle et par les ateliers associés à cette création\, nous souhaitons créer des espaces de sensibilisation et de discussion autour de ces thématiques.\nL’envie de créer ce spectacle a vu le jour suite à une expérience personnelle d’errance diagnostique ayant duré plusieurs années. Il est également le résultat d’un réel intérêt pour les problématiques physiques et psychiques vécues par les personnes nées de sexe féminin. Enrichie de mes études en sciences humaines\, j’ai mené une recherche approfondie sur ces thématiques et réalisé des entretiens semi-directifs avec des personnes concerné.e.s par les troubles liés au cycle menstruel (SPM\, TDPM\, SOPK\, endométriose\, ménopause) qui ont nourri ce spectacle.\nEntre expérience personnelle\, témoignages\, longues recherches scientifiques et travail au plateau\, ce spectacle aborde principalement trois thématiques : le Syndrôme Pré-Menstruel (SPM)\, les troubles liés aux règles\, et enfin\, la ménopause.” En espérant qu’ainsi\, les histoires à propos de nos corps pourront être contées sans complexe. \nCompagnie Oh et puis M…\nJeu : Coline Cellier\nMise en scène : Camille Gineau\nScénographie : Audrey Vermont
URL:https://mqj.ch/event/sacre-cycle/2025-09-26/
LOCATION:L’étincelle\, 18bis Avenue Sainte-Clotilde\, Genève\, Genève\, 1205\, Switzerland
CATEGORIES:Étincelle
ATTACH;FMTTYPE=image/jpeg:https://mqj.ch/wp-content/uploads/2025/09/sacre_cycle.jpg
ORGANIZER;CN="Association de la Maison du Quartier de la Jonction":MAILTO:mqj@mqj.ch
END:VEVENT
END:VCALENDAR